BEGIN:VCALENDAR
VERSION:2.0
PRODID:-//SAISD Systems of Care - ECPv6.15.20//NONSGML v1.0//EN
CALSCALE:GREGORIAN
METHOD:PUBLISH
X-ORIGINAL-URL:https://saisdcares.net
X-WR-CALDESC:Events for SAISD Systems of Care
REFRESH-INTERVAL;VALUE=DURATION:PT1H
X-Robots-Tag:noindex
X-PUBLISHED-TTL:PT1H
BEGIN:VTIMEZONE
TZID:America/Chicago
BEGIN:DAYLIGHT
TZOFFSETFROM:-0600
TZOFFSETTO:-0500
TZNAME:CDT
DTSTART:20240310T080000
END:DAYLIGHT
BEGIN:STANDARD
TZOFFSETFROM:-0500
TZOFFSETTO:-0600
TZNAME:CST
DTSTART:20241103T070000
END:STANDARD
BEGIN:DAYLIGHT
TZOFFSETFROM:-0600
TZOFFSETTO:-0500
TZNAME:CDT
DTSTART:20250309T080000
END:DAYLIGHT
BEGIN:STANDARD
TZOFFSETFROM:-0500
TZOFFSETTO:-0600
TZNAME:CST
DTSTART:20251102T070000
END:STANDARD
BEGIN:DAYLIGHT
TZOFFSETFROM:-0600
TZOFFSETTO:-0500
TZNAME:CDT
DTSTART:20260308T080000
END:DAYLIGHT
BEGIN:STANDARD
TZOFFSETFROM:-0500
TZOFFSETTO:-0600
TZNAME:CST
DTSTART:20261101T070000
END:STANDARD
END:VTIMEZONE
BEGIN:VEVENT
DTSTART;TZID=America/Chicago:20251025T120000
DTEND;TZID=America/Chicago:20251025T150000
DTSTAMP:20260424T083633
CREATED:20251023T192624Z
LAST-MODIFIED:20251023T192624Z
UID:10001661-1761393600-1761404400@saisdcares.net
SUMMARY:Halloween Tunk or Treat with Teddy Morse's Cowboy Harley-Davidson Alamo City
DESCRIPTION:Pop those trunks and bring the little ghouls to our Halloween Trunk-or-Treat! We’re taking over the lot with department-hosted trunks\, tons of candy\, food + games\, and a DJ keeping the beats spooky-fun all afternoon. Costumes 100% encouraged for kids and grown-ups. \nCostume Contest — 2:30 PM\nBest Kid • Best Adult • Best Group/Family \nOn deck:\n🍬 Trunk-or-treat stations across the dealership\n🎶 DJ Lady J spinning Halloween hits\n🎯 Lot games & photo ops\n🍔 Food on site \nBring your crew\, your costumes\, & your candy bags. \nAll ages welcome. Free to attend. Family-friendly vibes.
URL:https://saisdcares.net/event/halloween-tunk-or-treat-with-teddy-morses-cowboy-harley-davidson-alamo-city/
LOCATION:Teddy Morse’s Cowboy Harley-Davidson Alamo City\, 11005 N Interstate 35\, San Antonio\, TX\, 78233\, United States
CATEGORIES:Monthly Highlights
ATTACH;FMTTYPE=image/jpeg:https://saisdcares.net/wp-content/uploads/2025/10/Harley-Davidson-Trunk-or-Treat.jpg
END:VEVENT
END:VCALENDAR