BEGIN:VCALENDAR
VERSION:2.0
PRODID:-//SAISD Systems of Care - ECPv6.15.20//NONSGML v1.0//EN
CALSCALE:GREGORIAN
METHOD:PUBLISH
X-ORIGINAL-URL:https://saisdcares.net
X-WR-CALDESC:Events for SAISD Systems of Care
REFRESH-INTERVAL;VALUE=DURATION:PT1H
X-Robots-Tag:noindex
X-PUBLISHED-TTL:PT1H
BEGIN:VTIMEZONE
TZID:America/Chicago
BEGIN:DAYLIGHT
TZOFFSETFROM:-0600
TZOFFSETTO:-0500
TZNAME:CDT
DTSTART:20250309T080000
END:DAYLIGHT
BEGIN:STANDARD
TZOFFSETFROM:-0500
TZOFFSETTO:-0600
TZNAME:CST
DTSTART:20251102T070000
END:STANDARD
BEGIN:DAYLIGHT
TZOFFSETFROM:-0600
TZOFFSETTO:-0500
TZNAME:CDT
DTSTART:20260308T080000
END:DAYLIGHT
BEGIN:STANDARD
TZOFFSETFROM:-0500
TZOFFSETTO:-0600
TZNAME:CST
DTSTART:20261101T070000
END:STANDARD
BEGIN:DAYLIGHT
TZOFFSETFROM:-0600
TZOFFSETTO:-0500
TZNAME:CDT
DTSTART:20270314T080000
END:DAYLIGHT
BEGIN:STANDARD
TZOFFSETFROM:-0500
TZOFFSETTO:-0600
TZNAME:CST
DTSTART:20271107T070000
END:STANDARD
END:VTIMEZONE
BEGIN:VEVENT
DTSTART;TZID=America/Chicago:20260124T103000
DTEND;TZID=America/Chicago:20260124T111500
DTSTAMP:20260420T085230
CREATED:20260115T182051Z
LAST-MODIFIED:20260115T182051Z
UID:10002043-1769250600-1769253300@saisdcares.net
SUMMARY:Let's Move!: Music & Movement
DESCRIPTION:Join us for a morning filled with music\, songs\, and rhymes. Best for children under 10; registration not required.
URL:https://saisdcares.net/event/lets-move-music-movement-2/
LOCATION:San Antonio Public Library – Thousand Oaks Branch\, 4618 Thousand Oaks\, San Antonio\, TX\, 78233\, United States
CATEGORIES:Monthly Highlights
ATTACH;FMTTYPE=image/jpeg:https://saisdcares.net/wp-content/uploads/2026/01/Move-e1768501077671.jpg
END:VEVENT
BEGIN:VEVENT
DTSTART;TZID=America/Chicago:20260117T103000
DTEND;TZID=America/Chicago:20260117T111500
DTSTAMP:20260420T085230
CREATED:20260115T181808Z
LAST-MODIFIED:20260115T181941Z
UID:10002042-1768645800-1768648500@saisdcares.net
SUMMARY:Let's Move!: Music & Movement
DESCRIPTION:Join us for a morning filled with music\, songs\, and rhymes. Best for children under 10; registration not required.
URL:https://saisdcares.net/event/lets-move-music-movement/
LOCATION:San Antonio Public Library – Thousand Oaks Branch\, 4618 Thousand Oaks\, San Antonio\, TX\, 78233\, United States
CATEGORIES:Monthly Highlights
ATTACH;FMTTYPE=image/jpeg:https://saisdcares.net/wp-content/uploads/2026/01/Move-e1768501077671.jpg
END:VEVENT
END:VCALENDAR