BEGIN:VCALENDAR
VERSION:2.0
PRODID:-//SAISD Systems of Care - ECPv6.15.20//NONSGML v1.0//EN
CALSCALE:GREGORIAN
METHOD:PUBLISH
X-WR-CALNAME:SAISD Systems of Care
X-ORIGINAL-URL:https://saisdcares.net
X-WR-CALDESC:Events for SAISD Systems of Care
REFRESH-INTERVAL;VALUE=DURATION:PT1H
X-Robots-Tag:noindex
X-PUBLISHED-TTL:PT1H
BEGIN:VTIMEZONE
TZID:America/Chicago
BEGIN:DAYLIGHT
TZOFFSETFROM:-0600
TZOFFSETTO:-0500
TZNAME:CDT
DTSTART:20240310T080000
END:DAYLIGHT
BEGIN:STANDARD
TZOFFSETFROM:-0500
TZOFFSETTO:-0600
TZNAME:CST
DTSTART:20241103T070000
END:STANDARD
BEGIN:DAYLIGHT
TZOFFSETFROM:-0600
TZOFFSETTO:-0500
TZNAME:CDT
DTSTART:20250309T080000
END:DAYLIGHT
BEGIN:STANDARD
TZOFFSETFROM:-0500
TZOFFSETTO:-0600
TZNAME:CST
DTSTART:20251102T070000
END:STANDARD
BEGIN:DAYLIGHT
TZOFFSETFROM:-0600
TZOFFSETTO:-0500
TZNAME:CDT
DTSTART:20260308T080000
END:DAYLIGHT
BEGIN:STANDARD
TZOFFSETFROM:-0500
TZOFFSETTO:-0600
TZNAME:CST
DTSTART:20261101T070000
END:STANDARD
END:VTIMEZONE
BEGIN:VEVENT
DTSTART;TZID=America/Chicago:20250528T170000
DTEND;TZID=America/Chicago:20250528T180000
DTSTAMP:20260425T113234
CREATED:20250519T164928Z
LAST-MODIFIED:20250519T164928Z
UID:10001342-1748451600-1748455200@saisdcares.net
SUMMARY:CAST Med & CAST Imagine Ribbon Cutting Ceremony
DESCRIPTION:The community is invited to a special event at CAST Med High School and CAST Imagine Middle School as we celebrate the completion of exciting new campus upgrades made possible by the 2020 Bond Program. \nThis is more than a ribbon cutting — it’s a celebration of progress. Renovated spaces\, including laboratories\, classrooms\, foyer\, courtyard\, and book nook\, are transforming the student experience at CAST Med and CAST Imagine Middle School.
URL:https://saisdcares.net/event/cast-med-cast-imagine-ribbon-cutting-ceremony/
LOCATION:CAST MED HS\, 2601 Louis Bauer Drive\, San Antonio\, TX\, 78235\, United States
CATEGORIES:Academics
ATTACH;FMTTYPE=image/jpeg:https://saisdcares.net/wp-content/uploads/2025/05/CAST-MED-Imagine-e1747673318421.jpg
END:VEVENT
END:VCALENDAR