BEGIN:VCALENDAR
VERSION:2.0
PRODID:-//SAISD Systems of Care - ECPv6.15.20//NONSGML v1.0//EN
CALSCALE:GREGORIAN
METHOD:PUBLISH
X-WR-CALNAME:SAISD Systems of Care
X-ORIGINAL-URL:https://saisdcares.net
X-WR-CALDESC:Events for SAISD Systems of Care
REFRESH-INTERVAL;VALUE=DURATION:PT1H
X-Robots-Tag:noindex
X-PUBLISHED-TTL:PT1H
BEGIN:VTIMEZONE
TZID:America/Chicago
BEGIN:DAYLIGHT
TZOFFSETFROM:-0600
TZOFFSETTO:-0500
TZNAME:CDT
DTSTART:20240310T080000
END:DAYLIGHT
BEGIN:STANDARD
TZOFFSETFROM:-0500
TZOFFSETTO:-0600
TZNAME:CST
DTSTART:20241103T070000
END:STANDARD
BEGIN:DAYLIGHT
TZOFFSETFROM:-0600
TZOFFSETTO:-0500
TZNAME:CDT
DTSTART:20250309T080000
END:DAYLIGHT
BEGIN:STANDARD
TZOFFSETFROM:-0500
TZOFFSETTO:-0600
TZNAME:CST
DTSTART:20251102T070000
END:STANDARD
BEGIN:DAYLIGHT
TZOFFSETFROM:-0600
TZOFFSETTO:-0500
TZNAME:CDT
DTSTART:20260308T080000
END:DAYLIGHT
BEGIN:STANDARD
TZOFFSETFROM:-0500
TZOFFSETTO:-0600
TZNAME:CST
DTSTART:20261101T070000
END:STANDARD
BEGIN:DAYLIGHT
TZOFFSETFROM:-0600
TZOFFSETTO:-0500
TZNAME:CDT
DTSTART:20270314T080000
END:DAYLIGHT
BEGIN:STANDARD
TZOFFSETFROM:-0500
TZOFFSETTO:-0600
TZNAME:CST
DTSTART:20271107T070000
END:STANDARD
END:VTIMEZONE
BEGIN:VEVENT
DTSTART;TZID=America/Chicago:20260328T110000
DTEND;TZID=America/Chicago:20260328T110000
DTSTAMP:20260424T161608
CREATED:20260226T182120Z
LAST-MODIFIED:20260226T182120Z
UID:10002205-1774695600-1774695600@saisdcares.net
SUMMARY:Food Distribution with First Rest Foundation
DESCRIPTION:Attention\, San Antonio! Join First Rest Foundation for their monthly food distribution. This is a first-come\, first-served event. Registration is not required. Come pick up food until there is no more left. \n 
URL:https://saisdcares.net/event/food-distribution-with-first-rest-foundation/
LOCATION:Baptist Temple\, 901 E. Drexel Ave\, San Antonio\, TX\, 78207\, United States
CATEGORIES:Family Needs
ATTACH;FMTTYPE=image/jpeg:https://saisdcares.net/wp-content/uploads/2026/02/FD-Baptist-Temple-e1772130019230.jpg
END:VEVENT
BEGIN:VEVENT
DTSTART;TZID=America/Chicago:20251122T090000
DTEND;TZID=America/Chicago:20251122T120000
DTSTAMP:20260424T161608
CREATED:20251105T224501Z
LAST-MODIFIED:20251105T224501Z
UID:10001766-1763802000-1763812800@saisdcares.net
SUMMARY:Community Food Distribution
DESCRIPTION:Baptist Temple Church\, the First Rest Foundation\, and Strong Tower SM invite the community to their food distribution. \nThis is a first-come\, first-served event\, and items are available while supplies last.
URL:https://saisdcares.net/event/community-food-distribution/
LOCATION:Baptist Temple\, 901 E. Drexel Ave\, San Antonio\, TX\, 78207\, United States
CATEGORIES:Monthly Highlights
ATTACH;FMTTYPE=image/jpeg:https://saisdcares.net/wp-content/uploads/2025/11/BT-Food-e1762382680585.jpg
END:VEVENT
END:VCALENDAR