BEGIN:VCALENDAR
VERSION:2.0
PRODID:-//SAISD Systems of Care - ECPv6.15.20//NONSGML v1.0//EN
CALSCALE:GREGORIAN
METHOD:PUBLISH
X-ORIGINAL-URL:https://saisdcares.net
X-WR-CALDESC:Events for SAISD Systems of Care
REFRESH-INTERVAL;VALUE=DURATION:PT1H
X-Robots-Tag:noindex
X-PUBLISHED-TTL:PT1H
BEGIN:VTIMEZONE
TZID:America/Chicago
BEGIN:DAYLIGHT
TZOFFSETFROM:-0600
TZOFFSETTO:-0500
TZNAME:CDT
DTSTART:20250309T080000
END:DAYLIGHT
BEGIN:STANDARD
TZOFFSETFROM:-0500
TZOFFSETTO:-0600
TZNAME:CST
DTSTART:20251102T070000
END:STANDARD
BEGIN:DAYLIGHT
TZOFFSETFROM:-0600
TZOFFSETTO:-0500
TZNAME:CDT
DTSTART:20260308T080000
END:DAYLIGHT
BEGIN:STANDARD
TZOFFSETFROM:-0500
TZOFFSETTO:-0600
TZNAME:CST
DTSTART:20261101T070000
END:STANDARD
BEGIN:DAYLIGHT
TZOFFSETFROM:-0600
TZOFFSETTO:-0500
TZNAME:CDT
DTSTART:20270314T080000
END:DAYLIGHT
BEGIN:STANDARD
TZOFFSETFROM:-0500
TZOFFSETTO:-0600
TZNAME:CST
DTSTART:20271107T070000
END:STANDARD
END:VTIMEZONE
BEGIN:VEVENT
DTSTART;TZID=America/Chicago:20260423T160000
DTEND;TZID=America/Chicago:20260423T173000
DTSTAMP:20260422T141537
CREATED:20260416T180335Z
LAST-MODIFIED:20260416T180335Z
UID:10002453-1776960000-1776965400@saisdcares.net
SUMMARY:San Antonio Food Bank Agape Christian Church Prepack Pantry
DESCRIPTION:Refer back to Fresh Trak for Event Updates. Registration will be done onsite on the day of the event. Please arrive at the start time. Food will be available while supplies last. San Antonio Food Bank Services can be accessed every 14 days if needed.
URL:https://saisdcares.net/event/san-antonio-food-bank-agape-christian-church-prepack-pantry-3/
LOCATION:Agape Christian Church\, 14303 Judson Rd\, San Antonio\, TX\, 78233\, United States
CATEGORIES:Family Needs
ATTACH;FMTTYPE=image/jpeg:https://saisdcares.net/wp-content/uploads/2025/01/Food-Bank-e1740177782615.jpg
END:VEVENT
BEGIN:VEVENT
DTSTART;TZID=America/Chicago:20260424T100000
DTEND;TZID=America/Chicago:20260424T110000
DTSTAMP:20260422T141537
CREATED:20260416T181104Z
LAST-MODIFIED:20260416T181104Z
UID:10002455-1777024800-1777028400@saisdcares.net
SUMMARY:San Antonio Food Bank Randolph Airforce Base
DESCRIPTION:BASE ACCESS IS REQUIRED TO ATTEND THIS EVENT – DISTRIBUTION AT HERITAGE PARK. \nThis event will take place at Heritage Park on Randolph Air Force Base. \nRSVP is required for this event.
URL:https://saisdcares.net/event/san-antonio-food-bank-randolph-airforce-base/
LOCATION:Randolph Air Force Base Heritage Park\, 925 3rd Ave. East\, JBSA RANDOLPH\, TX\, 78150\, United States
CATEGORIES:Family Needs
ATTACH;FMTTYPE=image/jpeg:https://saisdcares.net/wp-content/uploads/2025/01/Food-Bank-e1740177782615.jpg
END:VEVENT
BEGIN:VEVENT
DTSTART;TZID=America/Chicago:20260424T140000
DTEND;TZID=America/Chicago:20260424T150000
DTSTAMP:20260422T141537
CREATED:20260416T180726Z
LAST-MODIFIED:20260416T180726Z
UID:10002454-1777039200-1777042800@saisdcares.net
SUMMARY:San Antonio Food Bank Masjid Ar-Rayhan Prepack Pantry
DESCRIPTION:Refer back to Fresh Trak for Event Updates. Registration will be done onsite on the day of the event. Please arrive at the start time. Food will be available while supplies last. San Antonio Food Bank Services can be accessed every 14 days if needed.
URL:https://saisdcares.net/event/san-antonio-food-bank-masjid-ar-rayhan-prepack-pantry-7/
LOCATION:Masjid Ar-Rayhan\, 6126 MONTGOMERY DR\, San Antonio\, TX\, 78239\, United States
CATEGORIES:Family Needs
ATTACH;FMTTYPE=image/jpeg:https://saisdcares.net/wp-content/uploads/2025/01/Food-Bank-e1740177782615.jpg
END:VEVENT
BEGIN:VEVENT
DTSTART;TZID=America/Chicago:20260425T090000
DTEND;TZID=America/Chicago:20260425T100000
DTSTAMP:20260422T141537
CREATED:20260416T181348Z
LAST-MODIFIED:20260416T181348Z
UID:10002456-1777107600-1777111200@saisdcares.net
SUMMARY:San Antonio Food Bank Faith Based Institute Prepack Pantry
DESCRIPTION:Refer back to Fresh Trak for Event Updates. Registration will be done onsite on the day of the event. Please arrive at the start time. Food will be available while supplies last. San Antonio Food Bank Services can be accessed every 14 days if needed.
URL:https://saisdcares.net/event/san-antonio-food-bank-faith-based-institute-prepack-pantry-7/
LOCATION:Faith Based Institute\, 251 ALTITUDE DR\, San Antonio\, TX\, 78227\, United States
CATEGORIES:Family Needs
ATTACH;FMTTYPE=image/jpeg:https://saisdcares.net/wp-content/uploads/2025/01/Food-Bank-e1740177782615.jpg
END:VEVENT
BEGIN:VEVENT
DTSTART;TZID=America/Chicago:20260425T110000
DTEND;TZID=America/Chicago:20260425T130000
DTSTAMP:20260422T141537
CREATED:20260416T181523Z
LAST-MODIFIED:20260416T181523Z
UID:10002457-1777114800-1777122000@saisdcares.net
SUMMARY:San Antonio Food Bank Three: 16 church Prepack Pantry
DESCRIPTION:Refer back to Fresh Trak for Event Updates. Registration will be done onsite on the day of the event. Please arrive at the start time. Food will be available while supplies last. San Antonio Food Bank Services can be accessed every 14 days if needed.
URL:https://saisdcares.net/event/san-antonio-food-bank-three-16-church-prepack-pantry/
LOCATION:Three:16 Church\, 7760 Prue Rd\, San Antonio\, TX\, 78249\, United States
CATEGORIES:Family Needs
ATTACH;FMTTYPE=image/jpeg:https://saisdcares.net/wp-content/uploads/2025/01/Food-Bank-e1740177782615.jpg
END:VEVENT
BEGIN:VEVENT
DTSTART;TZID=America/Chicago:20260428T140000
DTEND;TZID=America/Chicago:20260428T160000
DTSTAMP:20260422T141537
CREATED:20260416T181833Z
LAST-MODIFIED:20260416T181833Z
UID:10002458-1777384800-1777392000@saisdcares.net
SUMMARY:San Antonio Food Bank South San Antonio ISD Prepack Pantry
DESCRIPTION:Refer back to Fresh Trak for Event Updates. Please arrive at the start time. Food will be available while supplies last. San Antonio Food Bank Services can be accessed every 14 days if needed.
URL:https://saisdcares.net/event/san-antonio-food-bank-south-san-antonio-isd-prepack-pantry/
LOCATION:South San ISD\, 7800 Kindred St\, San Antonio\, TX\, 78224\, United States
CATEGORIES:Family Needs
ATTACH;FMTTYPE=image/jpeg:https://saisdcares.net/wp-content/uploads/2025/01/Food-Bank-e1740177782615.jpg
END:VEVENT
BEGIN:VEVENT
DTSTART;TZID=America/Chicago:20260520T120000
DTEND;TZID=America/Chicago:20260520T130000
DTSTAMP:20260422T141537
CREATED:20260320T171258Z
LAST-MODIFIED:20260320T171331Z
UID:10002330-1779278400-1779282000@saisdcares.net
SUMMARY:What Happens Next? Permanency Options After CPS Involvement
DESCRIPTION:Part of our free webinar series “Navigating Raising Children as a Kinship Caregiver” from Texas Legal Services Center’s Family Helpline. In this series\, learn your rights and available resources as a non-parent (or kinship) caregiver. \nBuilding on the April webinar\, this webinar focuses on legal options at trial and after a CPS case concludes. Learn the differences between adoption\, conservatorship\, Permanency Care Assistance\, and licensing\, along with the types of post-adoption assistance that may be available. This session is designed to help caregivers understand long-term planning and make informed decisions for their families. \nRegistration is required for this webinar series (Zoom).
URL:https://saisdcares.net/event/what-happens-next-permanency-options-after-cps-involvement/
LOCATION:Online
CATEGORIES:Family Needs
ATTACH;FMTTYPE=image/png:https://saisdcares.net/wp-content/uploads/2026/03/Kinship.png
END:VEVENT
BEGIN:VEVENT
DTSTART;TZID=America/Chicago:20260617T120000
DTEND;TZID=America/Chicago:20260617T130000
DTSTAMP:20260422T141537
CREATED:20260320T171754Z
LAST-MODIFIED:20260320T171754Z
UID:10002331-1781697600-1781701200@saisdcares.net
SUMMARY:ID Please! A Kinship Caregiver’s Crash Course in Obtaining Identification Documents
DESCRIPTION:Part of our free webinar series “Navigating Raising Children as a Kinship Caregiver” from Texas Legal Services Center’s Family Helpline. In this series\, learn your rights and available resources as a non-parent (or kinship) caregiver. \nBirth certificates\, Social Security cards\, and other identification documents are often essential – and difficult – for kinship caregivers to obtain. This webinar provides a practical\, step-by-step overview of how caregivers can request vital records\, including birth certificates\, Social Security cards\, and passports\, and explains common challenges and options when legal authority is limited. \nRegistration is required for this webinar series (Zoom).
URL:https://saisdcares.net/event/id-please-a-kinship-caregivers-crash-course-in-obtaining-identification-documents/
LOCATION:Online
CATEGORIES:Family Needs
ATTACH;FMTTYPE=image/png:https://saisdcares.net/wp-content/uploads/2026/03/Kinship.png
END:VEVENT
BEGIN:VEVENT
DTSTART;TZID=America/Chicago:20260625T110000
DTEND;TZID=America/Chicago:20260625T140000
DTSTAMP:20260422T141537
CREATED:20260307T215259Z
LAST-MODIFIED:20260307T215259Z
UID:10002257-1782385200-1782396000@saisdcares.net
SUMMARY:San Antonio Career Fair
DESCRIPTION:Are you ready to take your career to the next level? Join us at our upcoming career fair and connect with top employers in your area! \nAt our career fair\, you’ll have the chance to: \n\nMeet face-to-face with recruiters and hiring managers\nExplore open job opportunities and learn about what it’s like to work at different companies\nNetwork\n\nThis is your opportunity to discover new career paths\, learn about job openings\, and make connections that can help you advance in your career.
URL:https://saisdcares.net/event/san-antonio-career-fair-2/
LOCATION:Double Tree by Hilton San Antonio Airport\, 611 Northwest Loop 410\, San Antonio\, TX\, 78216\, United States
CATEGORIES:Family Needs
ATTACH;FMTTYPE=image/jpeg:https://saisdcares.net/wp-content/uploads/2024/12/Career-Fair.jpg
END:VEVENT
BEGIN:VEVENT
DTSTART;TZID=America/Chicago:20260715T120000
DTEND;TZID=America/Chicago:20260715T130000
DTSTAMP:20260422T141537
CREATED:20260320T172000Z
LAST-MODIFIED:20260320T172000Z
UID:10002332-1784116800-1784120400@saisdcares.net
SUMMARY:Back to School\, Kinship Style: Education Rights and School Enrollment Made Easier
DESCRIPTION:Part of our free webinar series “Navigating Raising Children as a Kinship Caregiver” from Texas Legal Services Center’s Family Helpline. In this series\, learn your rights and available resources as a non-parent (or kinship) caregiver. \nSchool can bring unique challenges for kinship caregivers. This webinar covers how to enroll a child in school without custody orders\, navigate special education services\, address immunization requirements\, and advocate for a child’s educational needs. Caregivers will leave with a clearer understanding of their rights and available options. \nRegistration is required for this webinar series (Zoom).
URL:https://saisdcares.net/event/back-to-school-kinship-style-education-rights-and-school-enrollment-made-easier/
LOCATION:Online
CATEGORIES:Family Needs
ATTACH;FMTTYPE=image/png:https://saisdcares.net/wp-content/uploads/2026/03/Kinship.png
END:VEVENT
BEGIN:VEVENT
DTSTART;TZID=America/Chicago:20260819T120000
DTEND;TZID=America/Chicago:20260819T130000
DTSTAMP:20260422T141537
CREATED:20260320T172252Z
LAST-MODIFIED:20260320T172252Z
UID:10002333-1787140800-1787144400@saisdcares.net
SUMMARY:Making It Work: Financial Help and Community Resources for Kinship Caregivers
DESCRIPTION:Part of our free webinar series “Navigating Raising Children as a Kinship Caregiver” from Texas Legal Services Center’s Family Helpline. In this series\, learn your rights and available resources as a non-parent (or kinship) caregiver. \nCaring for a child has financial impacts\, and available support often depends on your legal relationship to the child. This webinar explains how legal status affects benefit eligibility\, outlines current state and local assistance options\, and walks through how to apply for benefits. We’ll also discuss ways to find community-based resources to help families make ends meet. \nRegistration is required for this webinar series (Zoom).
URL:https://saisdcares.net/event/making-it-work-financial-help-and-community-resources-for-kinship-caregivers/
LOCATION:Online
CATEGORIES:Family Needs
ATTACH;FMTTYPE=image/png:https://saisdcares.net/wp-content/uploads/2026/03/Kinship.png
END:VEVENT
BEGIN:VEVENT
DTSTART;TZID=America/Chicago:20260917T110000
DTEND;TZID=America/Chicago:20260917T140000
DTSTAMP:20260422T141537
CREATED:20260307T215546Z
LAST-MODIFIED:20260307T215546Z
UID:10002259-1789642800-1789653600@saisdcares.net
SUMMARY:San Antonio Career Fair
DESCRIPTION:Are you ready to take your career to the next level? Join us at our upcoming career fair and connect with top employers in your area! \nAt our career fair\, you’ll have the chance to: \n\nMeet face-to-face with recruiters and hiring managers\nExplore open job opportunities and learn about what it’s like to work at different companies\nNetwork\n\nThis is your opportunity to discover new career paths\, learn about job openings\, and make connections that can help you advance in your career.
URL:https://saisdcares.net/event/san-antonio-career-fair-4/
LOCATION:Double Tree by Hilton San Antonio Airport\, 611 Northwest Loop 410\, San Antonio\, TX\, 78216\, United States
CATEGORIES:Family Needs
ATTACH;FMTTYPE=image/jpeg:https://saisdcares.net/wp-content/uploads/2024/12/Career-Fair.jpg
END:VEVENT
BEGIN:VEVENT
DTSTART;TZID=America/Chicago:20261209T110000
DTEND;TZID=America/Chicago:20261209T140000
DTSTAMP:20260422T141537
CREATED:20260307T215433Z
LAST-MODIFIED:20260307T215433Z
UID:10002258-1796814000-1796824800@saisdcares.net
SUMMARY:San Antonio Career Fair
DESCRIPTION:Are you ready to take your career to the next level? Join us at our upcoming career fair and connect with top employers in your area! \nAt our career fair\, you’ll have the chance to: \n\nMeet face-to-face with recruiters and hiring managers\nExplore open job opportunities and learn about what it’s like to work at different companies\nNetwork\n\nThis is your opportunity to discover new career paths\, learn about job openings\, and make connections that can help you advance in your career.
URL:https://saisdcares.net/event/san-antonio-career-fair-3/
LOCATION:Double Tree by Hilton San Antonio Airport\, 611 Northwest Loop 410\, San Antonio\, TX\, 78216\, United States
CATEGORIES:Family Needs
ATTACH;FMTTYPE=image/jpeg:https://saisdcares.net/wp-content/uploads/2024/12/Career-Fair.jpg
END:VEVENT
END:VCALENDAR