BEGIN:VCALENDAR
VERSION:2.0
PRODID:-//SAISD Systems of Care - ECPv6.15.20//NONSGML v1.0//EN
CALSCALE:GREGORIAN
METHOD:PUBLISH
X-WR-CALNAME:SAISD Systems of Care
X-ORIGINAL-URL:https://saisdcares.net
X-WR-CALDESC:Events for SAISD Systems of Care
REFRESH-INTERVAL;VALUE=DURATION:PT1H
X-Robots-Tag:noindex
X-PUBLISHED-TTL:PT1H
BEGIN:VTIMEZONE
TZID:America/Chicago
BEGIN:DAYLIGHT
TZOFFSETFROM:-0600
TZOFFSETTO:-0500
TZNAME:CDT
DTSTART:20250309T080000
END:DAYLIGHT
BEGIN:STANDARD
TZOFFSETFROM:-0500
TZOFFSETTO:-0600
TZNAME:CST
DTSTART:20251102T070000
END:STANDARD
BEGIN:DAYLIGHT
TZOFFSETFROM:-0600
TZOFFSETTO:-0500
TZNAME:CDT
DTSTART:20260308T080000
END:DAYLIGHT
BEGIN:STANDARD
TZOFFSETFROM:-0500
TZOFFSETTO:-0600
TZNAME:CST
DTSTART:20261101T070000
END:STANDARD
BEGIN:DAYLIGHT
TZOFFSETFROM:-0600
TZOFFSETTO:-0500
TZNAME:CDT
DTSTART:20270314T080000
END:DAYLIGHT
BEGIN:STANDARD
TZOFFSETFROM:-0500
TZOFFSETTO:-0600
TZNAME:CST
DTSTART:20271107T070000
END:STANDARD
END:VTIMEZONE
BEGIN:VEVENT
DTSTART;TZID=America/Chicago:20260819T120000
DTEND;TZID=America/Chicago:20260819T130000
DTSTAMP:20260424T053006
CREATED:20260320T172252Z
LAST-MODIFIED:20260320T172252Z
UID:10002333-1787140800-1787144400@saisdcares.net
SUMMARY:Making It Work: Financial Help and Community Resources for Kinship Caregivers
DESCRIPTION:Part of our free webinar series “Navigating Raising Children as a Kinship Caregiver” from Texas Legal Services Center’s Family Helpline. In this series\, learn your rights and available resources as a non-parent (or kinship) caregiver. \nCaring for a child has financial impacts\, and available support often depends on your legal relationship to the child. This webinar explains how legal status affects benefit eligibility\, outlines current state and local assistance options\, and walks through how to apply for benefits. We’ll also discuss ways to find community-based resources to help families make ends meet. \nRegistration is required for this webinar series (Zoom).
URL:https://saisdcares.net/event/making-it-work-financial-help-and-community-resources-for-kinship-caregivers/
LOCATION:Online
CATEGORIES:Family Needs
ATTACH;FMTTYPE=image/png:https://saisdcares.net/wp-content/uploads/2026/03/Kinship.png
END:VEVENT
BEGIN:VEVENT
DTSTART;TZID=America/Chicago:20260917T110000
DTEND;TZID=America/Chicago:20260917T140000
DTSTAMP:20260424T053006
CREATED:20260307T215546Z
LAST-MODIFIED:20260307T215546Z
UID:10002259-1789642800-1789653600@saisdcares.net
SUMMARY:San Antonio Career Fair
DESCRIPTION:Are you ready to take your career to the next level? Join us at our upcoming career fair and connect with top employers in your area! \nAt our career fair\, you’ll have the chance to: \n\nMeet face-to-face with recruiters and hiring managers\nExplore open job opportunities and learn about what it’s like to work at different companies\nNetwork\n\nThis is your opportunity to discover new career paths\, learn about job openings\, and make connections that can help you advance in your career.
URL:https://saisdcares.net/event/san-antonio-career-fair-4/
LOCATION:Double Tree by Hilton San Antonio Airport\, 611 Northwest Loop 410\, San Antonio\, TX\, 78216\, United States
CATEGORIES:Family Needs
ATTACH;FMTTYPE=image/jpeg:https://saisdcares.net/wp-content/uploads/2024/12/Career-Fair.jpg
END:VEVENT
BEGIN:VEVENT
DTSTART;TZID=America/Chicago:20261209T110000
DTEND;TZID=America/Chicago:20261209T140000
DTSTAMP:20260424T053006
CREATED:20260307T215433Z
LAST-MODIFIED:20260307T215433Z
UID:10002258-1796814000-1796824800@saisdcares.net
SUMMARY:San Antonio Career Fair
DESCRIPTION:Are you ready to take your career to the next level? Join us at our upcoming career fair and connect with top employers in your area! \nAt our career fair\, you’ll have the chance to: \n\nMeet face-to-face with recruiters and hiring managers\nExplore open job opportunities and learn about what it’s like to work at different companies\nNetwork\n\nThis is your opportunity to discover new career paths\, learn about job openings\, and make connections that can help you advance in your career.
URL:https://saisdcares.net/event/san-antonio-career-fair-3/
LOCATION:Double Tree by Hilton San Antonio Airport\, 611 Northwest Loop 410\, San Antonio\, TX\, 78216\, United States
CATEGORIES:Family Needs
ATTACH;FMTTYPE=image/jpeg:https://saisdcares.net/wp-content/uploads/2024/12/Career-Fair.jpg
END:VEVENT
END:VCALENDAR