BEGIN:VCALENDAR
VERSION:2.0
PRODID:-//SAISD Systems of Care - ECPv6.15.20//NONSGML v1.0//EN
CALSCALE:GREGORIAN
METHOD:PUBLISH
X-ORIGINAL-URL:https://saisdcares.net
X-WR-CALDESC:Events for SAISD Systems of Care
REFRESH-INTERVAL;VALUE=DURATION:PT1H
X-Robots-Tag:noindex
X-PUBLISHED-TTL:PT1H
BEGIN:VTIMEZONE
TZID:America/Chicago
BEGIN:DAYLIGHT
TZOFFSETFROM:-0600
TZOFFSETTO:-0500
TZNAME:CDT
DTSTART:20250309T080000
END:DAYLIGHT
BEGIN:STANDARD
TZOFFSETFROM:-0500
TZOFFSETTO:-0600
TZNAME:CST
DTSTART:20251102T070000
END:STANDARD
BEGIN:DAYLIGHT
TZOFFSETFROM:-0600
TZOFFSETTO:-0500
TZNAME:CDT
DTSTART:20260308T080000
END:DAYLIGHT
BEGIN:STANDARD
TZOFFSETFROM:-0500
TZOFFSETTO:-0600
TZNAME:CST
DTSTART:20261101T070000
END:STANDARD
BEGIN:DAYLIGHT
TZOFFSETFROM:-0600
TZOFFSETTO:-0500
TZNAME:CDT
DTSTART:20270314T080000
END:DAYLIGHT
BEGIN:STANDARD
TZOFFSETFROM:-0500
TZOFFSETTO:-0600
TZNAME:CST
DTSTART:20271107T070000
END:STANDARD
END:VTIMEZONE
BEGIN:VEVENT
DTSTART;TZID=America/Chicago:20260312T090000
DTEND;TZID=America/Chicago:20260312T100000
DTSTAMP:20260422T054738
CREATED:20260306T155920Z
LAST-MODIFIED:20260306T155920Z
UID:10002214-1773306000-1773309600@saisdcares.net
SUMMARY:San Antonio Food Bank Mt. Gilead Baptist Church Prepack Pantry
DESCRIPTION:Refer back to Fresh Trak for Event Updates. Registration will be done onsite on the day of the event. Please arrive at the start time. Food will be available while supplies last. San Antonio Food Bank Services can be accessed every 14 days if needed.
URL:https://saisdcares.net/event/san-antonio-food-bank-mt-gilead-baptist-church-prepack-pantry-10/
LOCATION:Mt. Gilead Baptist Church\, 1319 E Crockett St\, San Antonio\, TX\, 78202\, United States
CATEGORIES:Family Needs
ATTACH;FMTTYPE=image/jpeg:https://saisdcares.net/wp-content/uploads/2025/01/Food-Bank-e1740177782615.jpg
END:VEVENT
BEGIN:VEVENT
DTSTART;TZID=America/Chicago:20260312T090000
DTEND;TZID=America/Chicago:20260312T110000
DTSTAMP:20260422T054738
CREATED:20260306T230053Z
LAST-MODIFIED:20260306T230053Z
UID:10002229-1773306000-1773313200@saisdcares.net
SUMMARY:Spring Break Giveaway
DESCRIPTION:Blessed Angels Community Center invites the community to their Spring Break Giveaway. \nThis is a first-come\, first-served event. This event is a drive-through event.
URL:https://saisdcares.net/event/spring-break-giveaway/
LOCATION:Blessed Angels Community Center\, 14094 Nacogdoches Road\, San Antonio\, TX\, 78247\, United States
CATEGORIES:Family Needs
ATTACH;FMTTYPE=image/jpeg:https://saisdcares.net/wp-content/uploads/2026/03/Spring-Break-Giveaway-e1772837917637.jpg
END:VEVENT
END:VCALENDAR