BEGIN:VCALENDAR
VERSION:2.0
PRODID:-//SAISD Systems of Care - ECPv6.15.20//NONSGML v1.0//EN
CALSCALE:GREGORIAN
METHOD:PUBLISH
X-WR-CALNAME:SAISD Systems of Care
X-ORIGINAL-URL:https://saisdcares.net
X-WR-CALDESC:Events for SAISD Systems of Care
REFRESH-INTERVAL;VALUE=DURATION:PT1H
X-Robots-Tag:noindex
X-PUBLISHED-TTL:PT1H
BEGIN:VTIMEZONE
TZID:America/Chicago
BEGIN:DAYLIGHT
TZOFFSETFROM:-0600
TZOFFSETTO:-0500
TZNAME:CDT
DTSTART:20250309T080000
END:DAYLIGHT
BEGIN:STANDARD
TZOFFSETFROM:-0500
TZOFFSETTO:-0600
TZNAME:CST
DTSTART:20251102T070000
END:STANDARD
BEGIN:DAYLIGHT
TZOFFSETFROM:-0600
TZOFFSETTO:-0500
TZNAME:CDT
DTSTART:20260308T080000
END:DAYLIGHT
BEGIN:STANDARD
TZOFFSETFROM:-0500
TZOFFSETTO:-0600
TZNAME:CST
DTSTART:20261101T070000
END:STANDARD
BEGIN:DAYLIGHT
TZOFFSETFROM:-0600
TZOFFSETTO:-0500
TZNAME:CDT
DTSTART:20270314T080000
END:DAYLIGHT
BEGIN:STANDARD
TZOFFSETFROM:-0500
TZOFFSETTO:-0600
TZNAME:CST
DTSTART:20271107T070000
END:STANDARD
END:VTIMEZONE
BEGIN:VEVENT
DTSTART;TZID=America/Chicago:20260307T083000
DTEND;TZID=America/Chicago:20260307T120000
DTSTAMP:20260420T055234
CREATED:20260302T213549Z
LAST-MODIFIED:20260302T213549Z
UID:10002207-1772872200-1772884800@saisdcares.net
SUMMARY:San Antonio Food Bank Four Winds Prepack Pantry
DESCRIPTION:Refer back to Fresh Trak for Event Updates. Registration will be done onsite on the day of the event. Please arrive at the start time. Food will be available while supplies last. San Antonio Food Bank Services can be accessed every 14 days if needed.
URL:https://saisdcares.net/event/san-antonio-food-bank-four-winds-prepack-pantry-9/
LOCATION:Four Winds\, 2002 W. Olmos Dr.\, San Antonio\, TX\, 78201\, United States
CATEGORIES:Family Needs
ATTACH;FMTTYPE=image/jpeg:https://saisdcares.net/wp-content/uploads/2025/01/Food-Bank-e1740177782615.jpg
END:VEVENT
BEGIN:VEVENT
DTSTART;TZID=America/Chicago:20260307T090000
DTEND;TZID=America/Chicago:20260307T100000
DTSTAMP:20260420T055234
CREATED:20260302T213750Z
LAST-MODIFIED:20260302T213750Z
UID:10002208-1772874000-1772877600@saisdcares.net
SUMMARY:San Antonio Food Bank Church of Reconciliation Prepack Pantry
DESCRIPTION:Refer back to Fresh Trak for Event Updates. Please arrive no more than an hour before the start time. Food will be available while supplies last. San Antonio Food Bank Services can be accessed every 14 days if needed. \nRSVP is required for this event
URL:https://saisdcares.net/event/san-antonio-food-bank-church-of-reconciliation-prepack-pantry-2/
LOCATION:Church of Reconciliation\, 8900 Starcrest Dr.\, San Antonio\, TX\, 78217\, United States
CATEGORIES:Family Needs
ATTACH;FMTTYPE=image/jpeg:https://saisdcares.net/wp-content/uploads/2025/01/Food-Bank-e1740177782615.jpg
END:VEVENT
BEGIN:VEVENT
DTSTART;TZID=America/Chicago:20260307T090000
DTEND;TZID=America/Chicago:20260307T130000
DTSTAMP:20260420T055234
CREATED:20260306T223030Z
LAST-MODIFIED:20260306T223115Z
UID:10002227-1772874000-1772888400@saisdcares.net
SUMMARY:Financial and Legal Fair
DESCRIPTION:Join us at the fair for financial counseling\, the county clerk’s mobile unit\, tax preparation advice\, and volunteer income tax preparation. \nSt. Mary’s Law students will be available to answer questions dealing with wills\, debt collectors\, reverse mortgages\, and real estate issues. \nThis is a free event.
URL:https://saisdcares.net/event/financial-and-legal-fair-2/
LOCATION:The Neighborhood Place\, 3014 Rivas St\, San Antonio\, TX\, 78228\, United States
CATEGORIES:Family Needs
ATTACH;FMTTYPE=image/jpeg:https://saisdcares.net/wp-content/uploads/2026/03/Financial-and-Legal-Fair-e1772836215895.jpg
END:VEVENT
END:VCALENDAR