BEGIN:VCALENDAR
VERSION:2.0
PRODID:-//SAISD Systems of Care - ECPv6.15.20//NONSGML v1.0//EN
CALSCALE:GREGORIAN
METHOD:PUBLISH
X-ORIGINAL-URL:https://saisdcares.net
X-WR-CALDESC:Events for SAISD Systems of Care
REFRESH-INTERVAL;VALUE=DURATION:PT1H
X-Robots-Tag:noindex
X-PUBLISHED-TTL:PT1H
BEGIN:VTIMEZONE
TZID:America/Chicago
BEGIN:DAYLIGHT
TZOFFSETFROM:-0600
TZOFFSETTO:-0500
TZNAME:CDT
DTSTART:20250309T080000
END:DAYLIGHT
BEGIN:STANDARD
TZOFFSETFROM:-0500
TZOFFSETTO:-0600
TZNAME:CST
DTSTART:20251102T070000
END:STANDARD
BEGIN:DAYLIGHT
TZOFFSETFROM:-0600
TZOFFSETTO:-0500
TZNAME:CDT
DTSTART:20260308T080000
END:DAYLIGHT
BEGIN:STANDARD
TZOFFSETFROM:-0500
TZOFFSETTO:-0600
TZNAME:CST
DTSTART:20261101T070000
END:STANDARD
BEGIN:DAYLIGHT
TZOFFSETFROM:-0600
TZOFFSETTO:-0500
TZNAME:CDT
DTSTART:20270314T080000
END:DAYLIGHT
BEGIN:STANDARD
TZOFFSETFROM:-0500
TZOFFSETTO:-0600
TZNAME:CST
DTSTART:20271107T070000
END:STANDARD
END:VTIMEZONE
BEGIN:VEVENT
DTSTART;TZID=America/Chicago:20260224T170000
DTEND;TZID=America/Chicago:20260224T190000
DTSTAMP:20260424T051706
CREATED:20260219T232443Z
LAST-MODIFIED:20260219T232443Z
UID:10002194-1771952400-1771959600@saisdcares.net
SUMMARY:You\, Your Child(ren)\, and Your Military & Veteran Identity
DESCRIPTION:In this workshop\, we’ll explore the concept of family as a “system”—a dynamic and interconnected unit where each member plays a vital role. Through engaging discussions\, you’ll discover how each person’s individuality contributes to the smooth functioning of the family as a whole. By reflecting on personal identity\, experiences\, and values\, we’ll take a closer look at how these elements shape your family’s unique identity. This course covers Sessions 1 and 2 of the Strong Families Strong Forces program. \n*Open to military families with children ages 0 to 17\, including active-duty\, reservist\, National Guard\, and veteran families. \nThis session will be given virtually. Registration is required to receive the session meeting link.
URL:https://saisdcares.net/event/you-your-children-and-your-military-veteran-identity/
LOCATION:Online
CATEGORIES:Family Needs
ATTACH;FMTTYPE=image/png:https://saisdcares.net/wp-content/uploads/2026/02/Parent-Learning-WOrkshops.png
END:VEVENT
END:VCALENDAR