BEGIN:VCALENDAR
VERSION:2.0
PRODID:-//SAISD Systems of Care - ECPv6.15.20//NONSGML v1.0//EN
CALSCALE:GREGORIAN
METHOD:PUBLISH
X-WR-CALNAME:SAISD Systems of Care
X-ORIGINAL-URL:https://saisdcares.net
X-WR-CALDESC:Events for SAISD Systems of Care
REFRESH-INTERVAL;VALUE=DURATION:PT1H
X-Robots-Tag:noindex
X-PUBLISHED-TTL:PT1H
BEGIN:VTIMEZONE
TZID:America/Chicago
BEGIN:DAYLIGHT
TZOFFSETFROM:-0600
TZOFFSETTO:-0500
TZNAME:CDT
DTSTART:20250309T080000
END:DAYLIGHT
BEGIN:STANDARD
TZOFFSETFROM:-0500
TZOFFSETTO:-0600
TZNAME:CST
DTSTART:20251102T070000
END:STANDARD
BEGIN:DAYLIGHT
TZOFFSETFROM:-0600
TZOFFSETTO:-0500
TZNAME:CDT
DTSTART:20260308T080000
END:DAYLIGHT
BEGIN:STANDARD
TZOFFSETFROM:-0500
TZOFFSETTO:-0600
TZNAME:CST
DTSTART:20261101T070000
END:STANDARD
BEGIN:DAYLIGHT
TZOFFSETFROM:-0600
TZOFFSETTO:-0500
TZNAME:CDT
DTSTART:20270314T080000
END:DAYLIGHT
BEGIN:STANDARD
TZOFFSETFROM:-0500
TZOFFSETTO:-0600
TZNAME:CST
DTSTART:20271107T070000
END:STANDARD
END:VTIMEZONE
BEGIN:VEVENT
DTSTART;TZID=America/Chicago:20260420T090000
DTEND;TZID=America/Chicago:20260420T110000
DTSTAMP:20260420T053703
CREATED:20260416T173847Z
LAST-MODIFIED:20260416T173847Z
UID:10002448-1776675600-1776682800@saisdcares.net
SUMMARY:San Antonio Food Bank Fort Sam Base Vogel Res Kitchen Prepack Pantry
DESCRIPTION:MUST HAVE MILITARY ACCESS TO ENTER BASE \nFamilies NEED to have access to Fort Sam Houston base. Refer back to Fresh Trak for Event Updates. Distribution will be on base. Please arrive at the start time. Food will be available while supplies last. San Antonio Food Bank Services can be accessed every 14 days if needed.
URL:https://saisdcares.net/event/san-antonio-food-bank-fort-sam-base-vogel-res-kitchen-prepack-pantry-6/
LOCATION:Vogel Resiliency Center\, 2490 Stanley Rd\, Fort Sam Houston\, TX\, 78234\, United States
CATEGORIES:Family Needs
ATTACH;FMTTYPE=image/jpeg:https://saisdcares.net/wp-content/uploads/2025/01/Food-Bank-e1740177782615.jpg
END:VEVENT
BEGIN:VEVENT
DTSTART;TZID=America/Chicago:20260420T180000
DTEND;TZID=America/Chicago:20260420T180000
DTSTAMP:20260420T053703
CREATED:20260416T195551Z
LAST-MODIFIED:20260416T200259Z
UID:10002461-1776708000-1776708000@saisdcares.net
SUMMARY:Property Tax Assistance Workshop
DESCRIPTION:Attend a free workshop hosted by the City of San Antonio to see how you can lower your property tax bill. \nEach workshop will start with a brief presentation from Texas True Tax on: \n\ndifferent kinds of property tax exemptions.\nHow to appeal a property’s appraisal value\, including preparing for a protest\n\nAfter the presentation\, participants can get one-on-one help to complete paperwork\, such as exemption forms and appeal letters\, and to answer any questions they might have. \nRepresentatives from the Bexar Central Appraisal District (BCAD) will be available onsite to answer questions and help you file completed paperwork. \nSpanish and American Sign Language interpreters are available at all sessions.
URL:https://saisdcares.net/event/property-tax-assistance-workshop-2/
LOCATION:Tool Yard – NE Service Center\, 10303 Tool Yard\, San Antonio\, TX\, 78233\, United States
CATEGORIES:Monthly Highlights
ATTACH;FMTTYPE=image/jpeg:https://saisdcares.net/wp-content/uploads/2025/04/Property-Tax-e1745599026576.jpeg
END:VEVENT
END:VCALENDAR